BEGIN:VCALENDAR
VERSION:2.0
PRODID:-//www.nebraskacasa.org//NONSGML kigkonsult.se iCalcreator 2.30.10//
CALSCALE:GREGORIAN
METHOD:PUBLISH
UID:62003dd2-a142-4dba-8fa5-6f812725a6cb
X-WR-CALDESC:Join us for a fun\, family-friendly 5K race held at Iron Horse
  Park\, supporting Lincoln County CASA. Athletes are encouraged to wear su
 perhero costumes and festive apparel. Prizes for best costume. 'Villian Ch
 ase' children's mile available for kids 14 and under and their family memb
 ers.\n
X-WR-RELCALID:7cebe778d97855decdc22a4331fd42ee
X-WR-TIMEZONE:America/Chicago
BEGIN:VTIMEZONE
TZID:America/Chicago
BEGIN:STANDARD
TZNAME:CST
DTSTART:20151101T020000
TZOFFSETFROM:-0500
TZOFFSETTO:-0600
RDATE:20161106T020000
END:STANDARD
BEGIN:DAYLIGHT
TZNAME:CDT
DTSTART:20160313T020000
TZOFFSETFROM:-0600
TZOFFSETTO:-0500
RDATE:20170312T020000
END:DAYLIGHT
END:VTIMEZONE
BEGIN:VEVENT
UID:7cbc1ad3-4f6f-4f72-9474-06514e79fddc
DTSTAMP:20260423T212135Z
DESCRIPTION:Join us for a fun\, family-friendly 5K race held at Iron Horse 
 Park\, supporting Lincoln County CASA. Athletes are encouraged to wear sup
 erhero costumes and festive apparel. Prizes for best costume. 'Villian Cha
 se' children's mile available for kids 14 and under and their family membe
 rs.\n
DTSTART;TZID=America/Chicago:20160402T103000
DTEND;TZID=America/Chicago:20160402T113000
LOCATION:Iron Horse Park\, North Plate\, NE
SUMMARY:Lincoln County Super Hero 5K Run
END:VEVENT
END:VCALENDAR
