BEGIN:VCALENDAR
VERSION:2.0
PRODID:-//www.nebraskacasa.org//NONSGML kigkonsult.se iCalcreator 2.30.10//
CALSCALE:GREGORIAN
METHOD:PUBLISH
UID:73a39715-8dcd-461c-9007-d2ec627edff0
X-WR-CALDESC:Registration begins @ 1:30\n \n1 Mile Fun Run/Walk @ 2:00 5K @
  2:30\n \nRegistration is $25 for the 5K & $15 for the Fun Run/Walk
X-WR-RELCALID:07c6f3b528cae30b00e39bfebb9290b1
X-WR-TIMEZONE:America/Chicago
BEGIN:VTIMEZONE
TZID:America/Chicago
BEGIN:STANDARD
TZNAME:CST
DTSTART:20151101T020000
TZOFFSETFROM:-0500
TZOFFSETTO:-0600
RDATE:20161106T020000
END:STANDARD
BEGIN:DAYLIGHT
TZNAME:CDT
DTSTART:20160313T020000
TZOFFSETFROM:-0600
TZOFFSETTO:-0500
RDATE:20170312T020000
END:DAYLIGHT
END:VTIMEZONE
BEGIN:VEVENT
UID:85157614-7d01-4c88-b783-81fd17c873a3
DTSTAMP:20260423T213220Z
DESCRIPTION:Registration begins @ 1:30\n \n1 Mile Fun Run/Walk @ 2:00 5K @ 
 2:30\n \nRegistration is $25 for the 5K & $15 for the Fun Run/Walk
DTSTART;TZID=America/Chicago:20160403T000000
DTEND;TZID=America/Chicago:20160403T235900
LOCATION:Mincks Park—Family Aquac Center
SUMMARY:Run Child Abuse Out of Town
END:VEVENT
END:VCALENDAR
