BEGIN:VCALENDAR
VERSION:2.0
PRODID:-//www.nebraskacasa.org//NONSGML kigkonsult.se iCalcreator 2.30.10//
CALSCALE:GREGORIAN
METHOD:PUBLISH
UID:e475c162-351d-4c29-b920-7dcf5e96232e
X-WR-CALDESC:Join Sarpy County CASA as they celebrate 30 years of serving a
 bused and neglected children.
X-WR-RELCALID:1cecbe09e64b31a50833781545c646f0
X-WR-TIMEZONE:America/Chicago
BEGIN:VTIMEZONE
TZID:America/Chicago
BEGIN:STANDARD
TZNAME:CST
DTSTART:20151101T020000
TZOFFSETFROM:-0500
TZOFFSETTO:-0600
RDATE:20161106T020000
END:STANDARD
BEGIN:DAYLIGHT
TZNAME:CDT
DTSTART:20160313T020000
TZOFFSETFROM:-0600
TZOFFSETTO:-0500
RDATE:20170312T020000
END:DAYLIGHT
END:VTIMEZONE
BEGIN:VEVENT
UID:1d0f0f40-f0ea-4ec3-8ab0-fe2f6db76ec9
DTSTAMP:20260423T212244Z
DESCRIPTION:Join Sarpy County CASA as they celebrate 30 years of serving ab
 used and neglected children.
DTSTART;TZID=America/Chicago:20160415T173000
DTEND;TZID=America/Chicago:20160415T200000
LOCATION:SAC Federal Credit Union Atrium 7148 Towne Center Parkway in Papil
 lion
SUMMARY:Sarpy County 30 & Thriving
END:VEVENT
END:VCALENDAR
