BEGIN:VCALENDAR
VERSION:2.0
PRODID:-//www.nebraskacasa.org//NONSGML kigkonsult.se iCalcreator 2.30.10//
CALSCALE:GREGORIAN
METHOD:PUBLISH
UID:2b72b25c-2fdd-43bd-9e87-318a5873535d
X-WR-CALDESC:Please join us for the 2016 Nebraska CASA Conference. We will 
 be celebrating 30 YEARS of service to children in Sarpy County! Speakers i
 nclude Joe Gerstandt\, a nationally renowned presenter.
X-WR-RELCALID:42fce3d699a3bad6e96ff871125c7729
X-WR-TIMEZONE:America/Chicago
BEGIN:VTIMEZONE
TZID:America/Chicago
BEGIN:STANDARD
TZNAME:CST
DTSTART:20151101T020000
TZOFFSETFROM:-0500
TZOFFSETTO:-0600
RDATE:20161106T020000
END:STANDARD
BEGIN:DAYLIGHT
TZNAME:CDT
DTSTART:20160313T020000
TZOFFSETFROM:-0600
TZOFFSETTO:-0500
RDATE:20170312T020000
END:DAYLIGHT
END:VTIMEZONE
BEGIN:VEVENT
UID:42b9e56d-7396-4810-b612-1976a7505006
DTSTAMP:20260423T212405Z
DESCRIPTION:Please join us for the 2016 Nebraska CASA Conference. We will b
 e celebrating 30 YEARS of service to children in Sarpy County! Speakers in
 clude Joe Gerstandt\, a nationally renowned presenter.
DTSTART;TZID=America/Chicago:20160416T090000
DTEND;TZID=America/Chicago:20160416T170000
LOCATION:Sarpy County Courthouse
SUMMARY:Nebraska CASA Statewide Conference
END:VEVENT
END:VCALENDAR
