BEGIN:VCALENDAR
VERSION:2.0
PRODID:-//www.nebraskacasa.org//NONSGML kigkonsult.se iCalcreator 2.30.10//
CALSCALE:GREGORIAN
METHOD:PUBLISH
UID:e34f9ac8-865e-46d4-9321-08fcdb7c81e0
X-WR-CALDESC:GO BIG GIVE is a 24-hour fundraising effort held on Thursday\,
  May 3 from midnight to midnight.  Go Big GIVE is an additional way to giv
 e to nonprofits in Hall\, Hamilton\, Howard and Merrick counties\, helps g
 ain visibility for Heartland CASA\, entices new donors\, and allows everyo
 ne to be involved in this community-wide effort to raise funds !! \n \nGo 
 Big Give is a collaborative effort between the Heartland United Way and th
 e Grand Island Community Foundation in cooperation with business and indiv
 idual philanthropists committed to serving the causes that make our commun
 ity a better place to live\, work and play. \n \nThere are many ways to do
 uble our donations\, so check out our website and Facebook page for ways t
 o give and to help share the Heartland CASA message.\nLET'S SPREAD THE WOR
 D !!\n
X-WR-RELCALID:45662d9bd128b7a6bcb9e8390f624142
X-WR-TIMEZONE:America/Chicago
BEGIN:VTIMEZONE
TZID:America/Chicago
BEGIN:STANDARD
TZNAME:CST
DTSTART:20151101T020000
TZOFFSETFROM:-0500
TZOFFSETTO:-0600
RDATE:20161106T020000
END:STANDARD
BEGIN:DAYLIGHT
TZNAME:CDT
DTSTART:20160313T020000
TZOFFSETFROM:-0600
TZOFFSETTO:-0500
RDATE:20170312T020000
END:DAYLIGHT
END:VTIMEZONE
BEGIN:VEVENT
UID:2dc98114-bf4b-45a6-bc08-f6962391fc43
DTSTAMP:20260423T201001Z
DESCRIPTION:GO BIG GIVE is a 24-hour fundraising effort held on Thursday\, 
 May 3 from midnight to midnight.  Go Big GIVE is an additional way to give
  to nonprofits in Hall\, Hamilton\, Howard and Merrick counties\, helps ga
 in visibility for Heartland CASA\, entices new donors\, and allows everyon
 e to be involved in this community-wide effort to raise funds !! \n \nGo B
 ig Give is a collaborative effort between the Heartland United Way and the
  Grand Island Community Foundation in cooperation with business and indivi
 dual philanthropists committed to serving the causes that make our communi
 ty a better place to live\, work and play. \n \nThere are many ways to dou
 ble our donations\, so check out our website and Facebook page for ways to
  give and to help share the Heartland CASA message.\nLET'S SPREAD THE WORD
  !!\n
DTSTART;TZID=America/Chicago:20160503T000000
DTEND;TZID=America/Chicago:20160503T235900
LOCATION:
SUMMARY:GO BIG GIVE!
END:VEVENT
END:VCALENDAR
