BEGIN:VCALENDAR
VERSION:2.0
PRODID:-//www.nebraskacasa.org//NONSGML kigkonsult.se iCalcreator 2.30.10//
CALSCALE:GREGORIAN
METHOD:PUBLISH
UID:6ae14291-d01a-4de8-99f5-270912df68c1
X-WR-CALDESC:Are you interested in learning more about CASA for Douglas Cou
 nty and becoming an advocate for kids in foster care? Please join us for a
  CASA Information Session. Sessions are held on the second Tuesday of each
  month at noon and 5:30 PM and last about an hour. We look forward to talk
 ing with you!
X-WR-RELCALID:b8d2793c409a864e45048421e7032c2c
X-WR-TIMEZONE:America/Chicago
BEGIN:VTIMEZONE
TZID:America/Chicago
BEGIN:STANDARD
TZNAME:CST
DTSTART:20151101T020000
TZOFFSETFROM:-0500
TZOFFSETTO:-0600
RDATE:20161106T020000
RDATE:20171105T020000
END:STANDARD
BEGIN:DAYLIGHT
TZNAME:CDT
DTSTART:20160313T020000
TZOFFSETFROM:-0600
TZOFFSETTO:-0500
RDATE:20170312T020000
END:DAYLIGHT
END:VTIMEZONE
BEGIN:VEVENT
UID:9bf6c89c-f652-4868-b4aa-73e78187a3da
DTSTAMP:20260423T195938Z
DESCRIPTION:Are you interested in learning more about CASA for Douglas Coun
 ty and becoming an advocate for kids in foster care? Please join us for a 
 CASA Information Session. Sessions are held on the second Tuesday of each 
 month at noon and 5:30 PM and last about an hour. We look forward to talki
 ng with you!
DTSTART;TZID=America/Chicago:20160510T120000
DTEND;TZID=America/Chicago:20160510T130000
LOCATION:CASA For Douglas County\, 2412 St. Mary’s Ave. Omaha \, NE 68105
SUMMARY:Douglas County CASA Informational Meeting
END:VEVENT
END:VCALENDAR
