BEGIN:VCALENDAR
VERSION:2.0
PRODID:-//www.nebraskacasa.org//NONSGML kigkonsult.se iCalcreator 2.30.10//
CALSCALE:GREGORIAN
METHOD:PUBLISH
UID:2dba0818-2d8b-4a15-8af4-5fcbe24fb1d5
X-WR-CALDESC:Are you interested in learning more about CASA for Douglas Cou
 nty and becoming an advocate for kids in foster care? Please join us for a
  CASA Information Session. Sessions are held on the second Tuesday of each
  month at noon and 5:30 PM and last about an hour. We look forward to talk
 ing with you!
X-WR-RELCALID:624ee8148a5f388c5602bf0b069eef71
X-WR-TIMEZONE:America/Chicago
BEGIN:VTIMEZONE
TZID:America/Chicago
BEGIN:STANDARD
TZNAME:CST
DTSTART:20151101T020000
TZOFFSETFROM:-0500
TZOFFSETTO:-0600
RDATE:20161106T020000
RDATE:20171105T020000
END:STANDARD
BEGIN:DAYLIGHT
TZNAME:CDT
DTSTART:20160313T020000
TZOFFSETFROM:-0600
TZOFFSETTO:-0500
RDATE:20170312T020000
END:DAYLIGHT
END:VTIMEZONE
BEGIN:VEVENT
UID:d24880ce-ed74-4c1f-9e7e-9b4497b78ff3
DTSTAMP:20260423T200016Z
DESCRIPTION:Are you interested in learning more about CASA for Douglas Coun
 ty and becoming an advocate for kids in foster care? Please join us for a 
 CASA Information Session. Sessions are held on the second Tuesday of each 
 month at noon and 5:30 PM and last about an hour. We look forward to talki
 ng with you!
DTSTART;TZID=America/Chicago:20160510T173000
DTEND;TZID=America/Chicago:20160510T183000
LOCATION:CASA For Douglas County\, 2412 St. Mary’s Ave. Omaha \, NE 68105
SUMMARY:Douglas County CASA Informational Meeting
END:VEVENT
END:VCALENDAR
