BEGIN:VCALENDAR
VERSION:2.0
PRODID:-//www.nebraskacasa.org//NONSGML kigkonsult.se iCalcreator 2.30.10//
CALSCALE:GREGORIAN
METHOD:PUBLISH
UID:369cd06c-3d4b-49db-8548-068e70f689ef
X-WR-CALDESC:Douglas County has new volunteer training opportunities twice 
 per week!
X-WR-RELCALID:2eac5cc61559bb2bf724ca2f9fd1e563
X-WR-TIMEZONE:America/Chicago
BEGIN:VTIMEZONE
TZID:America/Chicago
BEGIN:STANDARD
TZNAME:CST
DTSTART:20151101T020000
TZOFFSETFROM:-0500
TZOFFSETTO:-0600
RDATE:20161106T020000
RDATE:20171105T020000
END:STANDARD
BEGIN:DAYLIGHT
TZNAME:CDT
DTSTART:20160313T020000
TZOFFSETFROM:-0600
TZOFFSETTO:-0500
RDATE:20170312T020000
END:DAYLIGHT
END:VTIMEZONE
BEGIN:VEVENT
UID:e98a3581-1969-40e5-9a9f-bf5a2f9b3f60
DTSTAMP:20260423T161408Z
DESCRIPTION:Douglas County has new volunteer training opportunities twice p
 er week!
DTSTART;TZID=America/Chicago:20160816T000000
DTEND;TZID=America/Chicago:20160816T235900
LOCATION:CASA for Douglas County
SUMMARY:Douglas County New Volunteer Training
END:VEVENT
END:VCALENDAR
