BEGIN:VCALENDAR
VERSION:2.0
PRODID:-//www.nebraskacasa.org//NONSGML kigkonsult.se iCalcreator 2.30.10//
CALSCALE:GREGORIAN
METHOD:PUBLISH
UID:98f85631-f047-4dcd-881c-8b27b26572b7
X-WR-CALDESC:Douglas County has new volunteer training opportunities twice 
 per week!
X-WR-RELCALID:8e7aaaeabdc63bc8200439e907b138ea
X-WR-TIMEZONE:America/Chicago
BEGIN:VTIMEZONE
TZID:America/Chicago
BEGIN:STANDARD
TZNAME:CST
DTSTART:20151101T020000
TZOFFSETFROM:-0500
TZOFFSETTO:-0600
RDATE:20161106T020000
RDATE:20171105T020000
END:STANDARD
BEGIN:DAYLIGHT
TZNAME:CDT
DTSTART:20160313T020000
TZOFFSETFROM:-0600
TZOFFSETTO:-0500
RDATE:20170312T020000
END:DAYLIGHT
END:VTIMEZONE
BEGIN:VEVENT
UID:ed92040c-c2db-4374-855e-2bcbe9f78ead
DTSTAMP:20260423T160948Z
DESCRIPTION:Douglas County has new volunteer training opportunities twice p
 er week!
DTSTART;TZID=America/Chicago:20160818T000000
DTEND;TZID=America/Chicago:20160818T235900
LOCATION:CASA for Douglas County
SUMMARY:Douglas County New Volunteer Training
END:VEVENT
END:VCALENDAR
