BEGIN:VCALENDAR
VERSION:2.0
PRODID:-//www.nebraskacasa.org//NONSGML kigkonsult.se iCalcreator 2.30.10//
CALSCALE:GREGORIAN
METHOD:PUBLISH
UID:a434114e-bd64-403b-845e-310efdf8e33b
X-WR-CALDESC:Douglas County has new volunteer training opportunities twice 
 per week!
X-WR-RELCALID:03db606d263ab545eb9372d9ca8230a1
X-WR-TIMEZONE:America/Chicago
BEGIN:VTIMEZONE
TZID:America/Chicago
BEGIN:STANDARD
TZNAME:CST
DTSTART:20151101T020000
TZOFFSETFROM:-0500
TZOFFSETTO:-0600
RDATE:20161106T020000
RDATE:20171105T020000
END:STANDARD
BEGIN:DAYLIGHT
TZNAME:CDT
DTSTART:20160313T020000
TZOFFSETFROM:-0600
TZOFFSETTO:-0500
RDATE:20170312T020000
END:DAYLIGHT
END:VTIMEZONE
BEGIN:VEVENT
UID:8605de9c-7531-4a57-8732-852f4670517e
DTSTAMP:20260423T161201Z
DESCRIPTION:Douglas County has new volunteer training opportunities twice p
 er week!
DTSTART;TZID=America/Chicago:20160823T000000
DTEND;TZID=America/Chicago:20160823T235900
LOCATION:CASA for Douglas County
SUMMARY:Douglas County New Volunteer Training
END:VEVENT
END:VCALENDAR
