BEGIN:VCALENDAR
VERSION:2.0
PRODID:-//www.nebraskacasa.org//NONSGML kigkonsult.se iCalcreator 2.30.10//
CALSCALE:GREGORIAN
METHOD:PUBLISH
UID:4b86592b-d0a6-44aa-a9fb-12fb220d02cb
X-WR-CALDESC:Douglas County has new volunteer training opportunities twice 
 per week!
X-WR-RELCALID:9b5652eada2cbfabe7d05321034274c6
X-WR-TIMEZONE:America/Chicago
BEGIN:VTIMEZONE
TZID:America/Chicago
BEGIN:STANDARD
TZNAME:CST
DTSTART:20151101T020000
TZOFFSETFROM:-0500
TZOFFSETTO:-0600
RDATE:20161106T020000
RDATE:20171105T020000
END:STANDARD
BEGIN:DAYLIGHT
TZNAME:CDT
DTSTART:20160313T020000
TZOFFSETFROM:-0600
TZOFFSETTO:-0500
RDATE:20170312T020000
END:DAYLIGHT
END:VTIMEZONE
BEGIN:VEVENT
UID:928d084d-d51a-4f36-ab03-1a5cf26e1f39
DTSTAMP:20260423T160948Z
DESCRIPTION:Douglas County has new volunteer training opportunities twice p
 er week!
DTSTART;TZID=America/Chicago:20160825T000000
DTEND;TZID=America/Chicago:20160825T235900
LOCATION:CASA for Douglas County
SUMMARY:Douglas County New Volunteer Training
END:VEVENT
END:VCALENDAR
