BEGIN:VCALENDAR
VERSION:2.0
PRODID:-//www.nebraskacasa.org//NONSGML kigkonsult.se iCalcreator 2.30.10//
CALSCALE:GREGORIAN
METHOD:PUBLISH
UID:7cea407c-9552-4172-a6a8-bc6cba5ba3d6
X-WR-CALDESC:Engaging Through Empathy- Domestic Violence Training for curre
 nt CASA volunteer advocates in Douglas County.
X-WR-RELCALID:48198d803cfe9a2acf04b3a80cd62667
X-WR-TIMEZONE:America/Chicago
BEGIN:VTIMEZONE
TZID:America/Chicago
BEGIN:STANDARD
TZNAME:CST
DTSTART:20151101T020000
TZOFFSETFROM:-0500
TZOFFSETTO:-0600
RDATE:20161106T020000
RDATE:20171105T020000
END:STANDARD
BEGIN:DAYLIGHT
TZNAME:CDT
DTSTART:20160313T020000
TZOFFSETFROM:-0600
TZOFFSETTO:-0500
RDATE:20170312T020000
END:DAYLIGHT
END:VTIMEZONE
BEGIN:VEVENT
UID:0a556189-ee8c-442f-9cc8-be6b2c42989f
DTSTAMP:20260423T160812Z
DESCRIPTION:Engaging Through Empathy- Domestic Violence Training for curren
 t CASA volunteer advocates in Douglas County.
DTSTART;TZID=America/Chicago:20160825T100000
DTEND;TZID=America/Chicago:20160825T130000
LOCATION:Child Advocacy Center - Omaha
SUMMARY:Douglas County Volunteer In-Service Training
END:VEVENT
END:VCALENDAR
