BEGIN:VCALENDAR
VERSION:2.0
PRODID:-//www.nebraskacasa.org//NONSGML kigkonsult.se iCalcreator 2.30.10//
CALSCALE:GREGORIAN
METHOD:PUBLISH
UID:63cb00e2-ad9d-4a0a-b8ec-1a3d859d359d
X-WR-CALDESC:A breakfast open to the public for 'CASA of Scotts Bluff Count
 y and Capstone.  Please join us at this one-hour presentation to learn abo
 ut our role in fighting child abuse and neglect and how you can help.
X-WR-RELCALID:8c903000550bbc4fe4da843825cd19c2
X-WR-TIMEZONE:America/Chicago
BEGIN:VTIMEZONE
TZID:America/Chicago
BEGIN:STANDARD
TZNAME:CST
DTSTART:20151101T020000
TZOFFSETFROM:-0500
TZOFFSETTO:-0600
RDATE:20161106T020000
RDATE:20171105T020000
END:STANDARD
BEGIN:DAYLIGHT
TZNAME:CDT
DTSTART:20160313T020000
TZOFFSETFROM:-0600
TZOFFSETTO:-0500
RDATE:20170312T020000
END:DAYLIGHT
END:VTIMEZONE
BEGIN:VEVENT
UID:dde79f88-3caa-4f18-b43f-b9c191be04b5
DTSTAMP:20260423T143140Z
DESCRIPTION:A breakfast open to the public for 'CASA of Scotts Bluff County
  and Capstone.  Please join us at this one-hour presentation to learn abou
 t our role in fighting child abuse and neglect and how you can help.
DTSTART;TZID=America/Chicago:20160901T070000
DTEND;TZID=America/Chicago:20160901T080000
LOCATION:Gering\, Nebraska
SUMMARY:Light of Hope Breakfast
END:VEVENT
END:VCALENDAR
