BEGIN:VCALENDAR
VERSION:2.0
PRODID:-//www.nebraskacasa.org//NONSGML kigkonsult.se iCalcreator 2.30.10//
CALSCALE:GREGORIAN
METHOD:PUBLISH
UID:b6f49144-4cd9-43a5-b0f2-dfeb0cf3bfef
X-WR-CALDESC:\nJoin us for a pancake breakfast at the North Platte Farmer's
  Market! More information coming soon.\n
X-WR-RELCALID:36c1af6be42219e684d9497a477a240b
X-WR-TIMEZONE:America/Chicago
BEGIN:VTIMEZONE
TZID:America/Chicago
BEGIN:STANDARD
TZNAME:CST
DTSTART:20151101T020000
TZOFFSETFROM:-0500
TZOFFSETTO:-0600
RDATE:20161106T020000
RDATE:20171105T020000
END:STANDARD
BEGIN:DAYLIGHT
TZNAME:CDT
DTSTART:20160313T020000
TZOFFSETFROM:-0600
TZOFFSETTO:-0500
RDATE:20170312T020000
END:DAYLIGHT
END:VTIMEZONE
BEGIN:VEVENT
UID:a9ad1ea5-b790-48e0-8ea2-5365f041c431
DTSTAMP:20260423T144101Z
DESCRIPTION:\nJoin us for a pancake breakfast at the North Platte Farmer's 
 Market! More information coming soon.\n
DTSTART;TZID=America/Chicago:20160903T083000
DTEND;TZID=America/Chicago:20160903T113000
LOCATION:North Platte Farmer's Market
SUMMARY:Lincoln County CASA Pancake Breakfast
END:VEVENT
END:VCALENDAR
