BEGIN:VCALENDAR
VERSION:2.0
PRODID:-//www.nebraskacasa.org//NONSGML kigkonsult.se iCalcreator 2.30.10//
CALSCALE:GREGORIAN
METHOD:PUBLISH
UID:0ea0d4a0-8a08-4a4c-b00a-8f214818c43b
X-WR-CALDESC:Douglas County has new volunteer training opportunities twice 
 per week!
X-WR-RELCALID:1e69b4c706b9b675c01528736760e687
X-WR-TIMEZONE:America/Chicago
BEGIN:VTIMEZONE
TZID:America/Chicago
BEGIN:STANDARD
TZNAME:CST
DTSTART:20151101T020000
TZOFFSETFROM:-0500
TZOFFSETTO:-0600
RDATE:20161106T020000
RDATE:20171105T020000
END:STANDARD
BEGIN:DAYLIGHT
TZNAME:CDT
DTSTART:20160313T020000
TZOFFSETFROM:-0600
TZOFFSETTO:-0500
RDATE:20170312T020000
END:DAYLIGHT
END:VTIMEZONE
BEGIN:VEVENT
UID:1a6669f8-6529-47c3-a529-7d10796f0d27
DTSTAMP:20260423T144740Z
DESCRIPTION:Douglas County has new volunteer training opportunities twice p
 er week!
DTSTART;TZID=America/Chicago:20160908T000000
DTEND;TZID=America/Chicago:20160908T235900
LOCATION:CASA for Douglas County
SUMMARY:Douglas County New Volunteer Training
END:VEVENT
END:VCALENDAR
