BEGIN:VCALENDAR
VERSION:2.0
PRODID:-//www.nebraskacasa.org//NONSGML kigkonsult.se iCalcreator 2.30.10//
CALSCALE:GREGORIAN
METHOD:PUBLISH
UID:e62225c2-5732-4b05-887e-51c47dc35fa0
X-WR-CALDESC:Fostering Futures is a curriculum created by the National Cour
 t Appointed Special Advocate Association that focuses on improving outcome
 s for older and emancipating youth (14-21 years of age) served by trained 
 CASA volunteers.
X-WR-RELCALID:a8b497d4c97c5d4af54fc2a9af36aac8
X-WR-TIMEZONE:America/Chicago
BEGIN:VTIMEZONE
TZID:America/Chicago
BEGIN:STANDARD
TZNAME:CST
DTSTART:20151101T020000
TZOFFSETFROM:-0500
TZOFFSETTO:-0600
RDATE:20161106T020000
RDATE:20171105T020000
END:STANDARD
BEGIN:DAYLIGHT
TZNAME:CDT
DTSTART:20160313T020000
TZOFFSETFROM:-0600
TZOFFSETTO:-0500
RDATE:20170312T020000
RDATE:20180311T020000
END:DAYLIGHT
END:VTIMEZONE
BEGIN:VEVENT
UID:fc25a620-2b26-4ba1-ab01-37a619be32a2
DTSTAMP:20260423T144721Z
DESCRIPTION:Fostering Futures is a curriculum created by the National Court
  Appointed Special Advocate Association that focuses on improving outcomes
  for older and emancipating youth (14-21 years of age) served by trained C
 ASA volunteers.
DTSTART;TZID=America/Chicago:20160912T000000
DTEND;TZID=America/Chicago:20160912T235900
LOCATION:CASA for Douglas County
SUMMARY:Fostering Futures
END:VEVENT
END:VCALENDAR
