BEGIN:VCALENDAR
VERSION:2.0
PRODID:-//www.nebraskacasa.org//NONSGML kigkonsult.se iCalcreator 2.30.10//
CALSCALE:GREGORIAN
METHOD:PUBLISH
UID:e747b83a-4b05-474d-b51a-2a2725ea1545
X-WR-CALDESC:Fostering Futures is a curriculum created by the National Cour
 t Appointed Special Advocate Association that focuses on improving outcome
 s for older and emancipating youth (14-21 years of age) served by trained 
 CASA volunteers.
X-WR-RELCALID:57345cfe1631e772588e6694ac36ba74
X-WR-TIMEZONE:America/Chicago
BEGIN:VTIMEZONE
TZID:America/Chicago
BEGIN:STANDARD
TZNAME:CST
DTSTART:20151101T020000
TZOFFSETFROM:-0500
TZOFFSETTO:-0600
RDATE:20161106T020000
RDATE:20171105T020000
END:STANDARD
BEGIN:DAYLIGHT
TZNAME:CDT
DTSTART:20160313T020000
TZOFFSETFROM:-0600
TZOFFSETTO:-0500
RDATE:20170312T020000
RDATE:20180311T020000
END:DAYLIGHT
END:VTIMEZONE
BEGIN:VEVENT
UID:4a827a33-1795-4fa8-b772-a1eefc2979a2
DTSTAMP:20260423T143359Z
DESCRIPTION:Fostering Futures is a curriculum created by the National Court
  Appointed Special Advocate Association that focuses on improving outcomes
  for older and emancipating youth (14-21 years of age) served by trained C
 ASA volunteers.
DTSTART;TZID=America/Chicago:20160915T000000
DTEND;TZID=America/Chicago:20160915T235900
LOCATION:CASA for Douglas County
SUMMARY:Fostering Futures
END:VEVENT
END:VCALENDAR
