BEGIN:VCALENDAR
VERSION:2.0
PRODID:-//www.nebraskacasa.org//NONSGML kigkonsult.se iCalcreator 2.30.10//
CALSCALE:GREGORIAN
METHOD:PUBLISH
UID:b9187fad-72f5-4f4c-806f-9915c2b8d01a
X-WR-CALDESC:Fostering Futures is a curriculum created by the National Cour
 t Appointed Special Advocate Association that focuses on improving outcome
 s for older and emancipating youth (14-21 years of age) served by trained 
 CASA volunteers.
X-WR-RELCALID:03963828ea9e11647523fe16cd865c0d
X-WR-TIMEZONE:America/Chicago
BEGIN:VTIMEZONE
TZID:America/Chicago
BEGIN:STANDARD
TZNAME:CST
DTSTART:20151101T020000
TZOFFSETFROM:-0500
TZOFFSETTO:-0600
RDATE:20161106T020000
RDATE:20171105T020000
END:STANDARD
BEGIN:DAYLIGHT
TZNAME:CDT
DTSTART:20160313T020000
TZOFFSETFROM:-0600
TZOFFSETTO:-0500
RDATE:20170312T020000
RDATE:20180311T020000
END:DAYLIGHT
END:VTIMEZONE
BEGIN:VEVENT
UID:239238d7-6fbe-4d0e-9821-c1b5eaaf84a3
DTSTAMP:20260423T144243Z
DESCRIPTION:Fostering Futures is a curriculum created by the National Court
  Appointed Special Advocate Association that focuses on improving outcomes
  for older and emancipating youth (14-21 years of age) served by trained C
 ASA volunteers.
DTSTART;TZID=America/Chicago:20160919T000000
DTEND;TZID=America/Chicago:20160919T235900
LOCATION:CASA for Douglas County
SUMMARY:Fostering Futures
END:VEVENT
END:VCALENDAR
