BEGIN:VCALENDAR
VERSION:2.0
PRODID:-//www.nebraskacasa.org//NONSGML kigkonsult.se iCalcreator 2.30.10//
CALSCALE:GREGORIAN
METHOD:PUBLISH
UID:075b3879-5973-4d45-b64a-a045b9683c55
X-WR-CALDESC:New volunteer training for Lancaster County begins September 2
 0th!
X-WR-RELCALID:6255458cfa4fa1df290c3fdc8201422f
X-WR-TIMEZONE:America/Chicago
BEGIN:VTIMEZONE
TZID:America/Chicago
BEGIN:STANDARD
TZNAME:CST
DTSTART:20151101T020000
TZOFFSETFROM:-0500
TZOFFSETTO:-0600
RDATE:20161106T020000
RDATE:20171105T020000
END:STANDARD
BEGIN:DAYLIGHT
TZNAME:CDT
DTSTART:20160313T020000
TZOFFSETFROM:-0600
TZOFFSETTO:-0500
RDATE:20170312T020000
RDATE:20180311T020000
END:DAYLIGHT
END:VTIMEZONE
BEGIN:VEVENT
UID:21a75651-41d0-4015-804a-8cd4bb207686
DTSTAMP:20260423T144101Z
DESCRIPTION:New volunteer training for Lancaster County begins September 20
 th!
DTSTART;TZID=America/Chicago:20160920T180000
DTEND;TZID=America/Chicago:20160920T210000
LOCATION:CASA for Lancaster County
SUMMARY:Lancaster County New Volunteer Training
END:VEVENT
END:VCALENDAR
