BEGIN:VCALENDAR
VERSION:2.0
PRODID:-//www.nebraskacasa.org//NONSGML kigkonsult.se iCalcreator 2.30.10//
CALSCALE:GREGORIAN
METHOD:PUBLISH
UID:1944992c-0b36-446f-b5d6-fc8f739a7aec
X-WR-CALDESC:Fostering Futures is a curriculum created by the National Cour
 t Appointed Special Advocate Association that focuses on improving outcome
 s for older and emancipating youth (14-21 years of age) served by trained 
 CASA volunteers.
X-WR-RELCALID:cb449aeb97c459f1d2f0baea593196aa
X-WR-TIMEZONE:America/Chicago
BEGIN:VTIMEZONE
TZID:America/Chicago
BEGIN:STANDARD
TZNAME:CST
DTSTART:20151101T020000
TZOFFSETFROM:-0500
TZOFFSETTO:-0600
RDATE:20161106T020000
RDATE:20171105T020000
END:STANDARD
BEGIN:DAYLIGHT
TZNAME:CDT
DTSTART:20160313T020000
TZOFFSETFROM:-0600
TZOFFSETTO:-0500
RDATE:20170312T020000
RDATE:20180311T020000
END:DAYLIGHT
END:VTIMEZONE
BEGIN:VEVENT
UID:4ca0b646-0df2-4eb8-b6e7-fd72f059b299
DTSTAMP:20260423T143852Z
DESCRIPTION:Fostering Futures is a curriculum created by the National Court
  Appointed Special Advocate Association that focuses on improving outcomes
  for older and emancipating youth (14-21 years of age) served by trained C
 ASA volunteers.
DTSTART;TZID=America/Chicago:20160922T000000
DTEND;TZID=America/Chicago:20160922T235900
LOCATION:CASA for Douglas County
SUMMARY:Fostering Futures
END:VEVENT
END:VCALENDAR
