BEGIN:VCALENDAR
VERSION:2.0
PRODID:-//www.nebraskacasa.org//NONSGML kigkonsult.se iCalcreator 2.30.10//
CALSCALE:GREGORIAN
METHOD:PUBLISH
UID:7fb2fa5c-2e64-4ca0-a716-564d6e6a0da2
X-WR-CALDESC:Compassion Fatigue: Friday\, September 23rd\, 2016. University
  of Nebraska Omaha\, Barbara Weitz Community Engagement Center.\nContact O
 YS with questions via email: info@operationyouthsuccess.org or (402) 554-3
 373
X-WR-RELCALID:9b923ece273eaf2fc4bf5e8b554025a3
X-WR-TIMEZONE:America/Chicago
BEGIN:VTIMEZONE
TZID:America/Chicago
BEGIN:STANDARD
TZNAME:CST
DTSTART:20151101T020000
TZOFFSETFROM:-0500
TZOFFSETTO:-0600
RDATE:20161106T020000
RDATE:20171105T020000
END:STANDARD
BEGIN:DAYLIGHT
TZNAME:CDT
DTSTART:20160313T020000
TZOFFSETFROM:-0600
TZOFFSETTO:-0500
RDATE:20170312T020000
RDATE:20180311T020000
END:DAYLIGHT
END:VTIMEZONE
BEGIN:VEVENT
UID:03473508-1210-4ce2-a277-5635a00bd6ba
DTSTAMP:20260423T144502Z
DESCRIPTION:Compassion Fatigue: Friday\, September 23rd\, 2016. University 
 of Nebraska Omaha\, Barbara Weitz Community Engagement Center.\nContact OY
 S with questions via email: info@operationyouthsuccess.org or (402) 554-33
 73
DTSTART;TZID=America/Chicago:20160923T000000
DTEND;TZID=America/Chicago:20160923T235900
LOCATION:
SUMMARY:Compassion Fatigue:
END:VEVENT
END:VCALENDAR
