BEGIN:VCALENDAR
VERSION:2.0
PRODID:-//www.nebraskacasa.org//NONSGML kigkonsult.se iCalcreator 2.30.10//
CALSCALE:GREGORIAN
METHOD:PUBLISH
UID:04cb8d7b-69ed-4cec-a443-6516acc7c39e
X-WR-CALDESC:New volunteer training for Lancaster County begins September 2
 0th!
X-WR-RELCALID:3fa888b547879bf0f7296affba0b0828
X-WR-TIMEZONE:America/Chicago
BEGIN:VTIMEZONE
TZID:America/Chicago
BEGIN:STANDARD
TZNAME:CST
DTSTART:20151101T020000
TZOFFSETFROM:-0500
TZOFFSETTO:-0600
RDATE:20161106T020000
RDATE:20171105T020000
END:STANDARD
BEGIN:DAYLIGHT
TZNAME:CDT
DTSTART:20160313T020000
TZOFFSETFROM:-0600
TZOFFSETTO:-0500
RDATE:20170312T020000
RDATE:20180311T020000
END:DAYLIGHT
END:VTIMEZONE
BEGIN:VEVENT
UID:291423d0-99d7-4278-9ab6-9834d0bcac8f
DTSTAMP:20260423T142547Z
DESCRIPTION:New volunteer training for Lancaster County begins September 20
 th!
DTSTART;TZID=America/Chicago:20160927T180000
DTEND;TZID=America/Chicago:20160927T210000
LOCATION:CASA for Lancaster County
SUMMARY:Lancaster County New Volunteer Training
END:VEVENT
END:VCALENDAR
