BEGIN:VCALENDAR
VERSION:2.0
PRODID:-//www.nebraskacasa.org//NONSGML kigkonsult.se iCalcreator 2.30.10//
CALSCALE:GREGORIAN
METHOD:PUBLISH
UID:e3e92041-d2bd-4b43-9be1-36f3d39b2718
X-WR-CALDESC:A Good Laugh Comedy Show benefiting CASA: Wednesday October 5t
 h\, 2016. Funny Bone Comedy Club-Village Pointe-17305 Davenport. Doors ope
 n 6:45\, Show at 7:30. $35 in advance/$45 at the door-includes show\, drin
 k ticket and appetizers. Proceeds go to CASA for Douglas County and Sarpy 
 County CASA.
X-WR-RELCALID:802bbfbced6a0728babdeff53be15826
X-WR-TIMEZONE:America/Chicago
BEGIN:VTIMEZONE
TZID:America/Chicago
BEGIN:STANDARD
TZNAME:CST
DTSTART:20151101T020000
TZOFFSETFROM:-0500
TZOFFSETTO:-0600
RDATE:20161106T020000
RDATE:20171105T020000
END:STANDARD
BEGIN:DAYLIGHT
TZNAME:CDT
DTSTART:20160313T020000
TZOFFSETFROM:-0600
TZOFFSETTO:-0500
RDATE:20170312T020000
RDATE:20180311T020000
END:DAYLIGHT
END:VTIMEZONE
BEGIN:VEVENT
UID:3c3ffdf3-fac0-415a-9214-a417d1c73e06
DTSTAMP:20260423T130243Z
DESCRIPTION:A Good Laugh Comedy Show benefiting CASA: Wednesday October 5th
 \, 2016. Funny Bone Comedy Club-Village Pointe-17305 Davenport. Doors open
  6:45\, Show at 7:30. $35 in advance/$45 at the door-includes show\, drink
  ticket and appetizers. Proceeds go to CASA for Douglas County and Sarpy C
 ounty CASA.
DTSTART;TZID=America/Chicago:20161005T184500
DTEND;TZID=America/Chicago:20161005T211500
LOCATION:
SUMMARY:A Good Laugh
END:VEVENT
END:VCALENDAR
