BEGIN:VCALENDAR
VERSION:2.0
PRODID:-//www.nebraskacasa.org//NONSGML kigkonsult.se iCalcreator 2.30.10//
CALSCALE:GREGORIAN
METHOD:PUBLISH
UID:ea6f6248-48a4-48d1-aec5-f25045a2e21c
X-WR-CALDESC:New volunteer training for Lancaster County begins September 2
 0th!
X-WR-RELCALID:9e1e97557a874cb30080315e8d116ca4
X-WR-TIMEZONE:America/Chicago
BEGIN:VTIMEZONE
TZID:America/Chicago
BEGIN:STANDARD
TZNAME:CST
DTSTART:20151101T020000
TZOFFSETFROM:-0500
TZOFFSETTO:-0600
RDATE:20161106T020000
RDATE:20171105T020000
END:STANDARD
BEGIN:DAYLIGHT
TZNAME:CDT
DTSTART:20160313T020000
TZOFFSETFROM:-0600
TZOFFSETTO:-0500
RDATE:20170312T020000
RDATE:20180311T020000
END:DAYLIGHT
END:VTIMEZONE
BEGIN:VEVENT
UID:50ca0546-b0d7-4255-bb0b-4d5c26bb2043
DTSTAMP:20260423T125646Z
DESCRIPTION:New volunteer training for Lancaster County begins September 20
 th!
DTSTART;TZID=America/Chicago:20161011T180000
DTEND;TZID=America/Chicago:20161011T210000
LOCATION:CASA for Lancaster County
SUMMARY:Lancaster County New Volunteer Training
END:VEVENT
END:VCALENDAR
