BEGIN:VCALENDAR
VERSION:2.0
PRODID:-//www.nebraskacasa.org//NONSGML kigkonsult.se iCalcreator 2.30.10//
CALSCALE:GREGORIAN
METHOD:PUBLISH
UID:dc03a786-cd36-4f79-ba79-542215ae1e56
X-WR-CALDESC:New volunteer training for Lancaster County begins September 2
 0th!
X-WR-RELCALID:238197d7273f565f88483ac5e03b106a
X-WR-TIMEZONE:America/Chicago
BEGIN:VTIMEZONE
TZID:America/Chicago
BEGIN:STANDARD
TZNAME:CST
DTSTART:20151101T020000
TZOFFSETFROM:-0500
TZOFFSETTO:-0600
RDATE:20161106T020000
RDATE:20171105T020000
END:STANDARD
BEGIN:DAYLIGHT
TZNAME:CDT
DTSTART:20160313T020000
TZOFFSETFROM:-0600
TZOFFSETTO:-0500
RDATE:20170312T020000
RDATE:20180311T020000
END:DAYLIGHT
END:VTIMEZONE
BEGIN:VEVENT
UID:7c90aa71-3b08-435e-95f2-756888f9807e
DTSTAMP:20260423T130744Z
DESCRIPTION:New volunteer training for Lancaster County begins September 20
 th!
DTSTART;TZID=America/Chicago:20161018T180000
DTEND;TZID=America/Chicago:20161018T210000
LOCATION:CASA for Lancaster County
SUMMARY:Lancaster County New Volunteer Training
END:VEVENT
END:VCALENDAR
