BEGIN:VCALENDAR
VERSION:2.0
PRODID:-//www.nebraskacasa.org//NONSGML kigkonsult.se iCalcreator 2.30.10//
CALSCALE:GREGORIAN
METHOD:PUBLISH
UID:996ab662-c358-43a5-a4ff-d4e17d724e7c
X-WR-CALDESC:New volunteer training for Lancaster County begins September 2
 0th!
X-WR-RELCALID:a31bfdbc3d0b28adce2203562fcd4f8e
X-WR-TIMEZONE:America/Chicago
BEGIN:VTIMEZONE
TZID:America/Chicago
BEGIN:STANDARD
TZNAME:CST
DTSTART:20151101T020000
TZOFFSETFROM:-0500
TZOFFSETTO:-0600
RDATE:20161106T020000
RDATE:20171105T020000
END:STANDARD
BEGIN:DAYLIGHT
TZNAME:CDT
DTSTART:20160313T020000
TZOFFSETFROM:-0600
TZOFFSETTO:-0500
RDATE:20170312T020000
RDATE:20180311T020000
END:DAYLIGHT
END:VTIMEZONE
BEGIN:VEVENT
UID:0871d388-b73e-4859-a64b-142008756763
DTSTAMP:20260423T125605Z
DESCRIPTION:New volunteer training for Lancaster County begins September 20
 th!
DTSTART;TZID=America/Chicago:20161025T180000
DTEND;TZID=America/Chicago:20161025T210000
LOCATION:CASA for Lancaster County
SUMMARY:Lancaster County New Volunteer Training
END:VEVENT
END:VCALENDAR
