BEGIN:VCALENDAR
VERSION:2.0
PRODID:-//www.nebraskacasa.org//NONSGML kigkonsult.se iCalcreator 2.30.10//
CALSCALE:GREGORIAN
METHOD:PUBLISH
UID:cd85d01b-97d9-450f-bda0-cc1db2979c07
X-WR-CALDESC:An opportunity for current volunteers to receive in-service ho
 urs.
X-WR-RELCALID:b69403818cf54ce4d3f54bc583800ee6
X-WR-TIMEZONE:America/Chicago
BEGIN:VTIMEZONE
TZID:America/Chicago
BEGIN:STANDARD
TZNAME:CST
DTSTART:20151101T020000
TZOFFSETFROM:-0500
TZOFFSETTO:-0600
RDATE:20161106T020000
RDATE:20171105T020000
END:STANDARD
BEGIN:DAYLIGHT
TZNAME:CDT
DTSTART:20160313T020000
TZOFFSETFROM:-0600
TZOFFSETTO:-0500
RDATE:20170312T020000
RDATE:20180311T020000
END:DAYLIGHT
END:VTIMEZONE
BEGIN:VEVENT
UID:69ff5ea5-aed3-4b37-92a2-d93654269e06
DTSTAMP:20260423T125605Z
DESCRIPTION:An opportunity for current volunteers to receive in-service hou
 rs.
DTSTART;TZID=America/Chicago:20161026T113000
DTEND;TZID=America/Chicago:20161026T133000
LOCATION:CASA for Lancaster County
SUMMARY:Lancaster County In-Service Training
END:VEVENT
END:VCALENDAR
