BEGIN:VCALENDAR
VERSION:2.0
PRODID:-//www.nebraskacasa.org//NONSGML kigkonsult.se iCalcreator 2.30.10//
CALSCALE:GREGORIAN
METHOD:PUBLISH
UID:e8ebd7bc-c9fe-4057-838c-895917ebc8bc
X-WR-CALDESC:Southeast Nebraska CASA would like to invite you to participat
 e in the 9th Annual Scare at the Fair. Scare at the Fair is an event for a
 ll in the community to attend on October 31st – Halloween. The event offer
 s family-friendly activities in a safe environment for all children in Sew
 ard County. This year\, CASA is partnering with Foster Friends. The event 
 proceeds provide funding to these organizations to enrich the lives of you
 th in our communities. \n\nWe would like you to consider hosting a booth t
 o promote your business at this ‘spook-tacular’ event. We will provide you
  with a prime location in the Seward County Ag Pavilion. We will also adve
 rtise your business on flyers\, posters and online as one participating in
  the event. We ask that your incorporate some sort of candy or give-away i
 tem at your booth so that the children may visit you for tricks or treats.
  You may also choose to give away some sort of coupon or promotional flier
  regarding your business. CASA will be providing\, fun activities and the 
 VFW will be serving a hot dog meal. \n\nYour business will have access to 
 2\,000+ children and adults. Every year we break our previous attendance r
 ecord and we don’t foresee any exception to this trend. We encourage you t
 o promote your business at the event and provide incentives for those you 
 see to return to your storefront. If you are unable to host a booth\, we w
 ould appreciate your consideration of a monetary donation to the youth in 
 Seward County.
X-WR-RELCALID:d22b1f7475089301b277b02b42c85f08
X-WR-TIMEZONE:America/Chicago
BEGIN:VTIMEZONE
TZID:America/Chicago
BEGIN:STANDARD
TZNAME:CST
DTSTART:20151101T020000
TZOFFSETFROM:-0500
TZOFFSETTO:-0600
RDATE:20161106T020000
RDATE:20171105T020000
END:STANDARD
BEGIN:DAYLIGHT
TZNAME:CDT
DTSTART:20160313T020000
TZOFFSETFROM:-0600
TZOFFSETTO:-0500
RDATE:20170312T020000
RDATE:20180311T020000
END:DAYLIGHT
END:VTIMEZONE
BEGIN:VEVENT
UID:1f1b4cdf-3b87-4497-8677-41ae05192ae1
DTSTAMP:20260423T130317Z
DESCRIPTION:Southeast Nebraska CASA would like to invite you to participate
  in the 9th Annual Scare at the Fair. Scare at the Fair is an event for al
 l in the community to attend on October 31st – Halloween. The event offers
  family-friendly activities in a safe environment for all children in Sewa
 rd County. This year\, CASA is partnering with Foster Friends. The event p
 roceeds provide funding to these organizations to enrich the lives of yout
 h in our communities. \n\nWe would like you to consider hosting a booth to
  promote your business at this ‘spook-tacular’ event. We will provide you 
 with a prime location in the Seward County Ag Pavilion. We will also adver
 tise your business on flyers\, posters and online as one participating in 
 the event. We ask that your incorporate some sort of candy or give-away it
 em at your booth so that the children may visit you for tricks or treats. 
 You may also choose to give away some sort of coupon or promotional flier 
 regarding your business. CASA will be providing\, fun activities and the V
 FW will be serving a hot dog meal. \n\nYour business will have access to 2
 \,000+ children and adults. Every year we break our previous attendance re
 cord and we don’t foresee any exception to this trend. We encourage you to
  promote your business at the event and provide incentives for those you s
 ee to return to your storefront. If you are unable to host a booth\, we wo
 uld appreciate your consideration of a monetary donation to the youth in S
 eward County.
DTSTART;TZID=America/Chicago:20161031T170000
DTEND;TZID=America/Chicago:20161031T180000
LOCATION:Seward County Ag Pavillion
SUMMARY:Scare at the Fair
END:VEVENT
END:VCALENDAR
