BEGIN:VCALENDAR
VERSION:2.0
PRODID:-//www.nebraskacasa.org//NONSGML kigkonsult.se iCalcreator 2.30.10//
CALSCALE:GREGORIAN
METHOD:PUBLISH
UID:0db0fcdb-29c2-4a95-99cb-65ca5719ba7a
X-WR-CALDESC:Paper Tigers a feature length documentary that explores the im
 pact of adverse childhood experiences on struggling teens. Their teachers 
 are armed with new science and fresh approaches that are changing their st
 udents' lives for the better. \n\n
X-WR-RELCALID:e7b360cc73349c41f2b81e386563efe2
X-WR-TIMEZONE:America/Chicago
BEGIN:VTIMEZONE
TZID:America/Chicago
BEGIN:STANDARD
TZNAME:CST
DTSTART:20161106T020000
TZOFFSETFROM:-0500
TZOFFSETTO:-0600
RDATE:20171105T020000
END:STANDARD
BEGIN:DAYLIGHT
TZNAME:CDT
DTSTART:20160313T020000
TZOFFSETFROM:-0600
TZOFFSETTO:-0500
RDATE:20170312T020000
RDATE:20180311T020000
END:DAYLIGHT
END:VTIMEZONE
BEGIN:VEVENT
UID:fe42b0da-8b69-4023-a4ba-ed7de5df1ebe
DTSTAMP:20260423T090706Z
DESCRIPTION:Paper Tigers a feature length documentary that explores the imp
 act of adverse childhood experiences on struggling teens. Their teachers a
 re armed with new science and fresh approaches that are changing their stu
 dents' lives for the better. \n\n
DTSTART;TZID=America/Chicago:20170128T083000
DTEND;TZID=America/Chicago:20170128T150000
LOCATION:Majestic Theatre 615 N Washington St\, Lexington\, NE
SUMMARY:In-Service Training
END:VEVENT
END:VCALENDAR
