BEGIN:VCALENDAR
VERSION:2.0
PRODID:-//www.nebraskacasa.org//NONSGML kigkonsult.se iCalcreator 2.30.10//
CALSCALE:GREGORIAN
METHOD:PUBLISH
UID:72c58901-1a25-4e8e-8dbe-b6eb1102e09d
X-WR-CALDESC:
X-WR-RELCALID:a1e77fd91c1e464d6e4ee72ea602b5d8
X-WR-TIMEZONE:America/Chicago
BEGIN:VTIMEZONE
TZID:America/Chicago
BEGIN:STANDARD
TZNAME:CST
DTSTART:20161106T020000
TZOFFSETFROM:-0500
TZOFFSETTO:-0600
RDATE:20171105T020000
END:STANDARD
BEGIN:DAYLIGHT
TZNAME:CDT
DTSTART:20160313T020000
TZOFFSETFROM:-0600
TZOFFSETTO:-0500
RDATE:20170312T020000
RDATE:20180311T020000
END:DAYLIGHT
END:VTIMEZONE
BEGIN:VEVENT
UID:4be035ab-6e14-4377-b7d8-d75adc78f570
DTSTAMP:20260423T070547Z
DESCRIPTION:
DTSTART;TZID=America/Chicago:20170214T080000
DTEND;TZID=America/Chicago:20170214T090000
LOCATION:State Capitol
SUMMARY:Legislative Breakfast
END:VEVENT
END:VCALENDAR
