BEGIN:VCALENDAR
VERSION:2.0
PRODID:-//www.nebraskacasa.org//NONSGML kigkonsult.se iCalcreator 2.30.10//
CALSCALE:GREGORIAN
METHOD:PUBLISH
UID:9ee65575-5c91-4be2-afbe-0c89d4b4445a
X-WR-CALDESC:
X-WR-RELCALID:f2a51fcccc1cff210f95d1051eee2714
X-WR-TIMEZONE:America/Chicago
BEGIN:VTIMEZONE
TZID:America/Chicago
BEGIN:STANDARD
TZNAME:CST
DTSTART:20161106T020000
TZOFFSETFROM:-0500
TZOFFSETTO:-0600
RDATE:20171105T020000
END:STANDARD
BEGIN:DAYLIGHT
TZNAME:CDT
DTSTART:20160313T020000
TZOFFSETFROM:-0600
TZOFFSETTO:-0500
RDATE:20170312T020000
RDATE:20180311T020000
END:DAYLIGHT
END:VTIMEZONE
BEGIN:VEVENT
UID:c5737285-993f-44fb-9172-d5a271ac5291
DTSTAMP:20260423T053540Z
DESCRIPTION:
DTSTART;TZID=America/Chicago:20170304T180000
DTEND;TZID=America/Chicago:20170304T210000
LOCATION:Scott Center\, Omaha\, NE
SUMMARY:CASAblanca Gala
END:VEVENT
END:VCALENDAR
