BEGIN:VCALENDAR
VERSION:2.0
PRODID:-//www.nebraskacasa.org//NONSGML kigkonsult.se iCalcreator 2.30.10//
CALSCALE:GREGORIAN
METHOD:PUBLISH
UID:4d75f6bb-ee6c-4d3c-bfff-fbb7d9cc7c07
X-WR-CALDESC:
X-WR-RELCALID:e4f1b815362b34b94a103bd6bf42dac5
X-WR-TIMEZONE:America/Chicago
BEGIN:VTIMEZONE
TZID:America/Chicago
BEGIN:STANDARD
TZNAME:CST
DTSTART:20161106T020000
TZOFFSETFROM:-0500
TZOFFSETTO:-0600
RDATE:20171105T020000
END:STANDARD
BEGIN:DAYLIGHT
TZNAME:CDT
DTSTART:20160313T020000
TZOFFSETFROM:-0600
TZOFFSETTO:-0500
RDATE:20170312T020000
RDATE:20180311T020000
END:DAYLIGHT
END:VTIMEZONE
BEGIN:VEVENT
UID:28fa32af-1179-4ef0-9883-6903a6112481
DTSTAMP:20260423T054017Z
DESCRIPTION:
DTSTART;TZID=America/Chicago:20170312T090000
DTEND;TZID=America/Chicago:20170314T120000
LOCATION:Seattle
SUMMARY:National CASA Conference
END:VEVENT
END:VCALENDAR
