BEGIN:VCALENDAR
VERSION:2.0
PRODID:-//www.nebraskacasa.org//NONSGML kigkonsult.se iCalcreator 2.30.10//
CALSCALE:GREGORIAN
METHOD:PUBLISH
UID:a49e923f-ff13-4aed-9fac-855a5fcdaa53
X-WR-CALDESC:$40 per ticket OR table of 8 for $280\nIncludes dinner\, show\
 , laughs & murder.\nSponsorships available.
X-WR-RELCALID:9b3b24d95bc4a316b7c3a8cbef6e4ced
X-WR-TIMEZONE:America/Chicago
BEGIN:VTIMEZONE
TZID:America/Chicago
BEGIN:STANDARD
TZNAME:CST
DTSTART:20161106T020000
TZOFFSETFROM:-0500
TZOFFSETTO:-0600
RDATE:20171105T020000
END:STANDARD
BEGIN:DAYLIGHT
TZNAME:CDT
DTSTART:20170312T020000
TZOFFSETFROM:-0600
TZOFFSETTO:-0500
RDATE:20180311T020000
END:DAYLIGHT
END:VTIMEZONE
BEGIN:VEVENT
UID:99f9acce-f5fb-4253-a5a7-5da8fe6e8729
DTSTAMP:20260423T053736Z
DESCRIPTION:$40 per ticket OR table of 8 for $280\nIncludes dinner\, show\,
  laughs & murder.\nSponsorships available.
DTSTART;TZID=America/Chicago:20170318T180000
DTEND;TZID=America/Chicago:20170318T210000
LOCATION:St. John's School\, 500 18th Street\, Plattsmouth\, NE
SUMMARY:Murder Mystery Dinner
END:VEVENT
END:VCALENDAR
