BEGIN:VCALENDAR
VERSION:2.0
PRODID:-//www.nebraskacasa.org//NONSGML kigkonsult.se iCalcreator 2.30.10//
CALSCALE:GREGORIAN
METHOD:PUBLISH
UID:0a9fcc0a-47c7-4d0f-bb65-dc65148cb9ef
X-WR-CALDESC:This is a rare opportunity to visit the Kuck Motorsports museu
 m in Lincoln. Gary and his wife Susan only open their private collection f
 or local area charities for fundraising as their way of giving back to the
  community. CASA for Lancaster County is proud to be one of the charities 
 that is allowed access to this amazing private collection. View this priva
 te collection of rare and unique cars and help support CASA for Lancaster 
 County. Proceeds will support the recruiting\, training\, and supervision 
 of community volunteers who advocate on behalf of abused and neglected chi
 ldren in the Lancaster County Juvenile Court System.\n\nDue to the rarity 
 and value of this collection\, no children under the age of 13 will be all
 owed.
X-WR-RELCALID:45ceaf4dc7827868d9db2eb332cd05d8
X-WR-TIMEZONE:America/Chicago
BEGIN:VTIMEZONE
TZID:America/Chicago
BEGIN:STANDARD
TZNAME:CST
DTSTART:20161106T020000
TZOFFSETFROM:-0500
TZOFFSETTO:-0600
RDATE:20171105T020000
END:STANDARD
BEGIN:DAYLIGHT
TZNAME:CDT
DTSTART:20170312T020000
TZOFFSETFROM:-0600
TZOFFSETTO:-0500
RDATE:20180311T020000
END:DAYLIGHT
END:VTIMEZONE
BEGIN:VEVENT
UID:5408e0ad-0b5c-48d8-8d44-467136e3a48f
DTSTAMP:20260423T053540Z
DESCRIPTION:This is a rare opportunity to visit the Kuck Motorsports museum
  in Lincoln. Gary and his wife Susan only open their private collection fo
 r local area charities for fundraising as their way of giving back to the 
 community. CASA for Lancaster County is proud to be one of the charities t
 hat is allowed access to this amazing private collection. View this privat
 e collection of rare and unique cars and help support CASA for Lancaster C
 ounty. Proceeds will support the recruiting\, training\, and supervision o
 f community volunteers who advocate on behalf of abused and neglected chil
 dren in the Lancaster County Juvenile Court System.\n\nDue to the rarity a
 nd value of this collection\, no children under the age of 13 will be allo
 wed.
DTSTART;TZID=America/Chicago:20170325T140000
DTEND;TZID=America/Chicago:20170325T170000
LOCATION:Kuck Motorsports Museum  2251 Humphrey Ave.  (North 27th Street & 
 Arbor Road/Alvo Road)  Lincoln\, NE 68521
SUMMARY:Cars for CASA
END:VEVENT
END:VCALENDAR
