BEGIN:VCALENDAR
VERSION:2.0
PRODID:-//www.nebraskacasa.org//NONSGML kigkonsult.se iCalcreator 2.30.10//
CALSCALE:GREGORIAN
METHOD:PUBLISH
UID:822ec338-51c8-43a9-8d06-d9d973987dc9
X-WR-CALDESC:Dress in your favorite Super Hero Costume and join in the fun.
   You do not need to be a runner to participate!\n\nCostume Awards will be
  given for the Best Dressed\, Most Creative\, Best Couple\, and Best Group
 .  \n\nThe Kids Costume Awards will be given in the age groups of 0-5\, 6-
 12\, and 13-17.\n
X-WR-RELCALID:94d5751dcab05dc06e5a35cbf45f091e
X-WR-TIMEZONE:America/Chicago
BEGIN:VTIMEZONE
TZID:America/Chicago
BEGIN:STANDARD
TZNAME:CST
DTSTART:20161106T020000
TZOFFSETFROM:-0500
TZOFFSETTO:-0600
RDATE:20171105T020000
END:STANDARD
BEGIN:DAYLIGHT
TZNAME:CDT
DTSTART:20170312T020000
TZOFFSETFROM:-0600
TZOFFSETTO:-0500
RDATE:20180311T020000
END:DAYLIGHT
END:VTIMEZONE
BEGIN:VEVENT
UID:3e0e009d-e7f2-4d22-ba90-d63224343e4d
DTSTAMP:20260423T040851Z
DESCRIPTION:Dress in your favorite Super Hero Costume and join in the fun. 
  You do not need to be a runner to participate!\n\nCostume Awards will be 
 given for the Best Dressed\, Most Creative\, Best Couple\, and Best Group.
   \n\nThe Kids Costume Awards will be given in the age groups of 0-5\, 6-1
 2\, and 13-17.\n
DTSTART;TZID=America/Chicago:20170401T080000
DTEND;TZID=America/Chicago:20170401T120000
LOCATION:Seward County Fairgrounds Reunion Center
SUMMARY:Southeast Nebraska CASA 5K Superhero Race
END:VEVENT
END:VCALENDAR
