BEGIN:VCALENDAR
VERSION:2.0
PRODID:-//www.nebraskacasa.org//NONSGML kigkonsult.se iCalcreator 2.30.10//
CALSCALE:GREGORIAN
METHOD:PUBLISH
UID:5e309063-3dc2-4f9b-a24c-fab4f830891b
X-WR-CALDESC:Race will begin and end at\nMincks Park—Family Aquatic Center
 \nRegistration opens at 1:30 pm\n1 Mile Fun Run/Walk at 2:00 pm\n5K at 2:3
 0 pm
X-WR-RELCALID:8a368bb3e0c7a991e67919a0c50ecb13
X-WR-TIMEZONE:America/Chicago
BEGIN:VTIMEZONE
TZID:America/Chicago
BEGIN:STANDARD
TZNAME:CST
DTSTART:20161106T020000
TZOFFSETFROM:-0500
TZOFFSETTO:-0600
RDATE:20171105T020000
END:STANDARD
BEGIN:DAYLIGHT
TZNAME:CDT
DTSTART:20170312T020000
TZOFFSETFROM:-0600
TZOFFSETTO:-0500
RDATE:20180311T020000
END:DAYLIGHT
END:VTIMEZONE
BEGIN:VEVENT
UID:a7a1d918-6c89-43c5-b6f6-ceda4ab6e127
DTSTAMP:20260423T040511Z
DESCRIPTION:Race will begin and end at\nMincks Park—Family Aquatic Center\n
 Registration opens at 1:30 pm\n1 Mile Fun Run/Walk at 2:00 pm\n5K at 2:30 
 pm
DTSTART;TZID=America/Chicago:20170402T133000
DTEND;TZID=America/Chicago:20170402T163000
LOCATION:Mincks Park—Family Aquatic Center\, York Nebraska
SUMMARY:Run Child Abuse Out of Town
END:VEVENT
END:VCALENDAR
