BEGIN:VCALENDAR
VERSION:2.0
PRODID:-//www.nebraskacasa.org//NONSGML kigkonsult.se iCalcreator 2.30.10//
CALSCALE:GREGORIAN
METHOD:PUBLISH
UID:db659836-07bf-4624-afac-3b3eb1c362b8
X-WR-CALDESC:5K race held at Iron Horse Park.  This is a 'super' 5K\, sligh
 tly longer than 3.1 miles\, approximately 3.4 miles.    Four unique runnin
 g surfaces on 3-loop course.  Athletes are encouraged to wear superhero co
 stumes and festive apparel.  Prizes for best costume.  Children's/ Family 
 Mile available for kids 14 and under and family members and is non-competi
 tive.
X-WR-RELCALID:2da12741a9fc973a1ceb8ca7e6e9d17e
X-WR-TIMEZONE:America/Chicago
BEGIN:VTIMEZONE
TZID:America/Chicago
BEGIN:STANDARD
TZNAME:CST
DTSTART:20161106T020000
TZOFFSETFROM:-0500
TZOFFSETTO:-0600
RDATE:20171105T020000
END:STANDARD
BEGIN:DAYLIGHT
TZNAME:CDT
DTSTART:20170312T020000
TZOFFSETFROM:-0600
TZOFFSETTO:-0500
RDATE:20180311T020000
END:DAYLIGHT
END:VTIMEZONE
BEGIN:VEVENT
UID:f92e4444-b243-4774-96cd-da6b1bd6f117
DTSTAMP:20260423T040937Z
DESCRIPTION:5K race held at Iron Horse Park.  This is a 'super' 5K\, slight
 ly longer than 3.1 miles\, approximately 3.4 miles.    Four unique running
  surfaces on 3-loop course.  Athletes are encouraged to wear superhero cos
 tumes and festive apparel.  Prizes for best costume.  Children's/ Family M
 ile available for kids 14 and under and family members and is non-competit
 ive.
DTSTART;TZID=America/Chicago:20170408T090000
DTEND;TZID=America/Chicago:20170408T110000
LOCATION:Iron Horse Park\,  2901 S Jeffers St North Platte\, NE\, 69101
SUMMARY:CASA SUPERHERO 5K & MILE
END:VEVENT
END:VCALENDAR
