BEGIN:VCALENDAR
VERSION:2.0
PRODID:-//www.nebraskacasa.org//NONSGML kigkonsult.se iCalcreator 2.30.10//
CALSCALE:GREGORIAN
METHOD:PUBLISH
UID:1860d452-effb-41a4-b3d0-59e84f6d8937
X-WR-CALDESC:
X-WR-RELCALID:57e1c0279cf0a7e704bce0ad7acd7fc4
X-WR-TIMEZONE:America/Chicago
BEGIN:VTIMEZONE
TZID:America/Chicago
BEGIN:STANDARD
TZNAME:CST
DTSTART:20171105T020000
TZOFFSETFROM:-0500
TZOFFSETTO:-0600
RDATE:20181104T020000
END:STANDARD
BEGIN:DAYLIGHT
TZNAME:CDT
DTSTART:20170312T020000
TZOFFSETFROM:-0600
TZOFFSETTO:-0500
RDATE:20180311T020000
RDATE:20190310T020000
END:DAYLIGHT
END:VTIMEZONE
BEGIN:VEVENT
UID:77a03c82-5bfa-429f-84a3-a52d55424376
DTSTAMP:20260422T130915Z
DESCRIPTION:
DTSTART;TZID=America/Chicago:20180213T080000
DTEND;TZID=America/Chicago:20180213T090000
LOCATION:Nebraska State Capitol
SUMMARY:CASA Legislative Breakfast
END:VEVENT
END:VCALENDAR
