BEGIN:VCALENDAR
VERSION:2.0
PRODID:-//www.nebraskacasa.org//NONSGML kigkonsult.se iCalcreator 2.30.10//
CALSCALE:GREGORIAN
METHOD:PUBLISH
UID:eb5e33df-c089-42dd-bbfe-6592cf4f45c2
X-WR-CALDESC:Men In Tights is an evening event full of fun and laughter! Lo
 cal gentleman are chosen to compete and be judged in evening wear\, interv
 iew\, and talent competitions to see who can look the best (most foolish) 
 and be crowned Miss CASA 2018.
X-WR-RELCALID:0e1ee08dc5745267202bb5fa6372b8c2
X-WR-TIMEZONE:America/Chicago
BEGIN:VTIMEZONE
TZID:America/Chicago
BEGIN:STANDARD
TZNAME:CST
DTSTART:20171105T020000
TZOFFSETFROM:-0500
TZOFFSETTO:-0600
RDATE:20181104T020000
END:STANDARD
BEGIN:DAYLIGHT
TZNAME:CDT
DTSTART:20170312T020000
TZOFFSETFROM:-0600
TZOFFSETTO:-0500
RDATE:20180311T020000
RDATE:20190310T020000
END:DAYLIGHT
END:VTIMEZONE
BEGIN:VEVENT
UID:8f7f2f05-9b8f-4089-8dcd-2c09842f7751
DTSTAMP:20260422T131422Z
DESCRIPTION:Men In Tights is an evening event full of fun and laughter! Loc
 al gentleman are chosen to compete and be judged in evening wear\, intervi
 ew\, and talent competitions to see who can look the best (most foolish) a
 nd be crowned Miss CASA 2018.
DTSTART;TZID=America/Chicago:20180223T180000
DTEND;TZID=America/Chicago:20180223T220000
LOCATION:Younes Center\, Kearney\, NE
SUMMARY:Men In Tights
END:VEVENT
END:VCALENDAR
