BEGIN:VCALENDAR
VERSION:2.0
PRODID:-//www.nebraskacasa.org//NONSGML kigkonsult.se iCalcreator 2.30.10//
CALSCALE:GREGORIAN
METHOD:PUBLISH
UID:335ae0a7-4cbc-4252-9a29-209160d95d37
X-WR-CALDESC:Join us to celebrate Nebraska CASA's 20th Anniversary. Our onl
 y annual fundraiser will begin with a 6 pm cocktail hour and silent auctio
 n. 7pm dinner and a short program and live auction.  \n\n
X-WR-RELCALID:c18ee60c420936fde28cec2f8a0635e7
X-WR-TIMEZONE:America/Chicago
BEGIN:VTIMEZONE
TZID:America/Chicago
BEGIN:STANDARD
TZNAME:CST
DTSTART:20171105T020000
TZOFFSETFROM:-0500
TZOFFSETTO:-0600
RDATE:20181104T020000
END:STANDARD
BEGIN:DAYLIGHT
TZNAME:CDT
DTSTART:20170312T020000
TZOFFSETFROM:-0600
TZOFFSETTO:-0500
RDATE:20180311T020000
RDATE:20190310T020000
END:DAYLIGHT
END:VTIMEZONE
BEGIN:VEVENT
UID:d34defe6-7e58-4698-814f-9fb68523bd62
DTSTAMP:20260422T124734Z
DESCRIPTION:Join us to celebrate Nebraska CASA's 20th Anniversary. Our only
  annual fundraiser will begin with a 6 pm cocktail hour and silent auction
 . 7pm dinner and a short program and live auction.  \n\n
DTSTART;TZID=America/Chicago:20180224T180000
DTEND;TZID=America/Chicago:20180224T210000
LOCATION:Lincoln Country Club
SUMMARY:CASAblanca Gala
END:VEVENT
END:VCALENDAR
