BEGIN:VCALENDAR
VERSION:2.0
PRODID:-//www.nebraskacasa.org//NONSGML kigkonsult.se iCalcreator 2.30.10//
CALSCALE:GREGORIAN
METHOD:PUBLISH
UID:2a52af92-bf23-47ab-b1f5-10528b4a0d07
X-WR-CALDESC:Second Annual Beer and Wine Tasting Event. \n\nAdults 21+ only
 \nTickets $20 each
X-WR-RELCALID:54be825ab82bd8c93d337a43a78fe77a
X-WR-TIMEZONE:America/Chicago
BEGIN:VTIMEZONE
TZID:America/Chicago
BEGIN:STANDARD
TZNAME:CST
DTSTART:20171105T020000
TZOFFSETFROM:-0500
TZOFFSETTO:-0600
RDATE:20181104T020000
END:STANDARD
BEGIN:DAYLIGHT
TZNAME:CDT
DTSTART:20180311T020000
TZOFFSETFROM:-0600
TZOFFSETTO:-0500
RDATE:20190310T020000
END:DAYLIGHT
END:VTIMEZONE
BEGIN:VEVENT
UID:927e38f0-11a4-47a0-9a68-2bcc49a5d96c
DTSTAMP:20260422T114932Z
DESCRIPTION:Second Annual Beer and Wine Tasting Event. \n\nAdults 21+ only
 \nTickets $20 each
DTSTART;TZID=America/Chicago:20180323T180000
DTEND;TZID=America/Chicago:20180323T220000
LOCATION:Henry on 11th\, Columbus NE
SUMMARY:Cheers for CASA
END:VEVENT
END:VCALENDAR
