BEGIN:VCALENDAR
VERSION:2.0
PRODID:-//www.nebraskacasa.org//NONSGML kigkonsult.se iCalcreator 2.30.10//
CALSCALE:GREGORIAN
METHOD:PUBLISH
UID:b63dc26c-9b04-4d0a-b325-4f6520a7323d
X-WR-CALDESC:Come join Bonnie Oltean for a CASA refresher course. This L&L 
 will review important pieces of CASA training\, provide updates from the n
 ew CASA training released last year from National CASA. Also we will intro
 duce some new policies and cover topics requested by current CASA Voluntee
 rs.
X-WR-RELCALID:b64667e264c940464a3f47b643a29776
X-WR-TIMEZONE:America/Chicago
BEGIN:VTIMEZONE
TZID:America/Chicago
BEGIN:STANDARD
TZNAME:CST
DTSTART:20171105T020000
TZOFFSETFROM:-0500
TZOFFSETTO:-0600
RDATE:20181104T020000
RDATE:20191103T020000
END:STANDARD
BEGIN:DAYLIGHT
TZNAME:CDT
DTSTART:20180311T020000
TZOFFSETFROM:-0600
TZOFFSETTO:-0500
RDATE:20190310T020000
END:DAYLIGHT
END:VTIMEZONE
BEGIN:VEVENT
UID:a1f4b339-f711-4b0d-9f5d-c27bed38b580
DTSTAMP:20260422T082007Z
DESCRIPTION:Come join Bonnie Oltean for a CASA refresher course. This L&L w
 ill review important pieces of CASA training\, provide updates from the ne
 w CASA training released last year from National CASA. Also we will introd
 uce some new policies and cover topics requested by current CASA Volunteer
 s.
DTSTART;TZID=America/Chicago:20180524T120000
DTEND;TZID=America/Chicago:20180524T130000
LOCATION:Heartland CASA
SUMMARY:Heartland CASA Lunch & Learn
END:VEVENT
END:VCALENDAR
