BEGIN:VCALENDAR
VERSION:2.0
PRODID:-//www.nebraskacasa.org//NONSGML kigkonsult.se iCalcreator 2.30.10//
CALSCALE:GREGORIAN
METHOD:PUBLISH
UID:f4971482-5d6b-4481-ad37-f66bfa1dc226
X-WR-CALDESC:Heartland Coffee with CASA. Come discuss your cases with your 
 fellow volunteers and get to know our new volunteers!
X-WR-RELCALID:753563f464a0b21677e5f54bb075b4be
X-WR-TIMEZONE:America/Chicago
BEGIN:VTIMEZONE
TZID:America/Chicago
BEGIN:STANDARD
TZNAME:CST
DTSTART:20171105T020000
TZOFFSETFROM:-0500
TZOFFSETTO:-0600
RDATE:20181104T020000
RDATE:20191103T020000
END:STANDARD
BEGIN:DAYLIGHT
TZNAME:CDT
DTSTART:20180311T020000
TZOFFSETFROM:-0600
TZOFFSETTO:-0500
RDATE:20190310T020000
END:DAYLIGHT
END:VTIMEZONE
BEGIN:VEVENT
UID:cfa7a02a-0e5a-4c90-9f3b-6a5510a11a27
DTSTAMP:20260422T064247Z
DESCRIPTION:Heartland Coffee with CASA. Come discuss your cases with your f
 ellow volunteers and get to know our new volunteers!
DTSTART;TZID=America/Chicago:20180614T090000
DTEND;TZID=America/Chicago:20180614T100000
LOCATION:Barista's in Grand Island
SUMMARY:Coffee with CASA
END:VEVENT
END:VCALENDAR
