BEGIN:VCALENDAR
VERSION:2.0
PRODID:-//www.nebraskacasa.org//NONSGML kigkonsult.se iCalcreator 2.30.10//
CALSCALE:GREGORIAN
METHOD:PUBLISH
UID:d7167653-f01e-4473-b3d3-7e0354869d04
X-WR-CALDESC:
X-WR-RELCALID:dcbc884cacb46fb4d383cf59084b7bbb
X-WR-TIMEZONE:America/Chicago
BEGIN:VTIMEZONE
TZID:America/Chicago
BEGIN:STANDARD
TZNAME:CST
DTSTART:20171105T020000
TZOFFSETFROM:-0500
TZOFFSETTO:-0600
RDATE:20181104T020000
RDATE:20191103T020000
END:STANDARD
BEGIN:DAYLIGHT
TZNAME:CDT
DTSTART:20180311T020000
TZOFFSETFROM:-0600
TZOFFSETTO:-0500
RDATE:20190310T020000
END:DAYLIGHT
END:VTIMEZONE
BEGIN:VEVENT
UID:a21e1547-2ac6-40c9-955e-a536c8ddbba3
DTSTAMP:20260422T053114Z
DESCRIPTION:
DTSTART;TZID=America/Chicago:20180719T180000
DTEND;TZID=America/Chicago:20180719T200000
LOCATION:Nebraska CASA Association
SUMMARY:Nebraska CASA Board Meeting
END:VEVENT
END:VCALENDAR
