BEGIN:VCALENDAR
VERSION:2.0
PRODID:-//www.nebraskacasa.org//NONSGML kigkonsult.se iCalcreator 2.30.10//
CALSCALE:GREGORIAN
METHOD:PUBLISH
UID:73fd6753-bda1-475f-96c3-f38d67686bb9
X-WR-CALDESC:If you live in Phelps or Harlan County and have an interest in
  becoming an advocate for abused and neglected children\, this is the time
 !
X-WR-RELCALID:c72027ba87f47b25a0675ae7ca44b199
X-WR-TIMEZONE:America/Chicago
BEGIN:VTIMEZONE
TZID:America/Chicago
BEGIN:STANDARD
TZNAME:CST
DTSTART:20171105T020000
TZOFFSETFROM:-0500
TZOFFSETTO:-0600
RDATE:20181104T020000
RDATE:20191103T020000
END:STANDARD
BEGIN:DAYLIGHT
TZNAME:CDT
DTSTART:20180311T020000
TZOFFSETFROM:-0600
TZOFFSETTO:-0500
RDATE:20190310T020000
END:DAYLIGHT
END:VTIMEZONE
BEGIN:VEVENT
UID:23b10323-ce01-492b-b348-1e904699cacf
DTSTAMP:20260422T034331Z
DESCRIPTION:If you live in Phelps or Harlan County and have an interest in 
 becoming an advocate for abused and neglected children\, this is the time!
DTSTART;TZID=America/Chicago:20180807T173000
DTEND;TZID=America/Chicago:20180807T210000
LOCATION:715 5th Ave. Holdrege
SUMMARY:New Volunteer Training in Holdrege
END:VEVENT
END:VCALENDAR
