BEGIN:VCALENDAR
VERSION:2.0
PRODID:-//www.nebraskacasa.org//NONSGML kigkonsult.se iCalcreator 2.30.10//
CALSCALE:GREGORIAN
METHOD:PUBLISH
UID:60d327ee-3c9e-4a34-875c-74775fdc1e3d
X-WR-CALDESC:If you live in Phelps or Harlan County and have an interest in
  becoming an advocate for abused and neglected children\, this is the time
 !
X-WR-RELCALID:71e9316dea785109be8ccaca1391384d
X-WR-TIMEZONE:America/Chicago
BEGIN:VTIMEZONE
TZID:America/Chicago
BEGIN:STANDARD
TZNAME:CST
DTSTART:20171105T020000
TZOFFSETFROM:-0500
TZOFFSETTO:-0600
RDATE:20181104T020000
RDATE:20191103T020000
END:STANDARD
BEGIN:DAYLIGHT
TZNAME:CDT
DTSTART:20180311T020000
TZOFFSETFROM:-0600
TZOFFSETTO:-0500
RDATE:20190310T020000
END:DAYLIGHT
END:VTIMEZONE
BEGIN:VEVENT
UID:b1f02da1-7a47-41d4-988f-438a48f07151
DTSTAMP:20260422T034605Z
DESCRIPTION:If you live in Phelps or Harlan County and have an interest in 
 becoming an advocate for abused and neglected children\, this is the time!
DTSTART;TZID=America/Chicago:20180809T173000
DTEND;TZID=America/Chicago:20180809T210000
LOCATION:715 5th Ave. Holdrege
SUMMARY:New Volunteer Training in Holdrege
END:VEVENT
END:VCALENDAR
