BEGIN:VCALENDAR
VERSION:2.0
PRODID:-//www.nebraskacasa.org//NONSGML kigkonsult.se iCalcreator 2.30.10//
CALSCALE:GREGORIAN
METHOD:PUBLISH
UID:9b1cfe22-118f-451b-9ed4-07b9cd44e6c4
X-WR-CALDESC:If you live in Phelps or Harlan County and have an interest in
  becoming an advocate for abused and neglected children\, this is the time
 !
X-WR-RELCALID:0d249e602a28ba01d9b98fe8a290fb9a
X-WR-TIMEZONE:America/Chicago
BEGIN:VTIMEZONE
TZID:America/Chicago
BEGIN:STANDARD
TZNAME:CST
DTSTART:20171105T020000
TZOFFSETFROM:-0500
TZOFFSETTO:-0600
RDATE:20181104T020000
RDATE:20191103T020000
END:STANDARD
BEGIN:DAYLIGHT
TZNAME:CDT
DTSTART:20180311T020000
TZOFFSETFROM:-0600
TZOFFSETTO:-0500
RDATE:20190310T020000
END:DAYLIGHT
END:VTIMEZONE
BEGIN:VEVENT
UID:45f52175-164a-4038-9a41-e84c51f0dac0
DTSTAMP:20260422T034529Z
DESCRIPTION:If you live in Phelps or Harlan County and have an interest in 
 becoming an advocate for abused and neglected children\, this is the time!
DTSTART;TZID=America/Chicago:20180814T173000
DTEND;TZID=America/Chicago:20180814T210000
LOCATION:715 5th Ave. Holdrege
SUMMARY:New Volunteer Training in Holdrege
END:VEVENT
END:VCALENDAR
