BEGIN:VCALENDAR
VERSION:2.0
PRODID:-//www.nebraskacasa.org//NONSGML kigkonsult.se iCalcreator 2.30.10//
CALSCALE:GREGORIAN
METHOD:PUBLISH
UID:d2e47b3b-b361-415a-8503-fcda3178e1e1
X-WR-CALDESC:If you live in Phelps or Harlan County and have an interest in
  becoming an advocate for abused and neglected children\, this is the time
 !
X-WR-RELCALID:29bed9c10e3b747f8038099b51e5d04a
X-WR-TIMEZONE:America/Chicago
BEGIN:VTIMEZONE
TZID:America/Chicago
BEGIN:STANDARD
TZNAME:CST
DTSTART:20171105T020000
TZOFFSETFROM:-0500
TZOFFSETTO:-0600
RDATE:20181104T020000
RDATE:20191103T020000
END:STANDARD
BEGIN:DAYLIGHT
TZNAME:CDT
DTSTART:20180311T020000
TZOFFSETFROM:-0600
TZOFFSETTO:-0500
RDATE:20190310T020000
END:DAYLIGHT
END:VTIMEZONE
BEGIN:VEVENT
UID:bb0ac59b-839f-457d-b538-094befabbd9d
DTSTAMP:20260422T035335Z
DESCRIPTION:If you live in Phelps or Harlan County and have an interest in 
 becoming an advocate for abused and neglected children\, this is the time!
DTSTART;TZID=America/Chicago:20180816T173000
DTEND;TZID=America/Chicago:20180816T210000
LOCATION:715 5th Ave. Holdrege
SUMMARY:New Volunteer Training in Holdrege
END:VEVENT
END:VCALENDAR
