BEGIN:VCALENDAR
VERSION:2.0
PRODID:-//www.nebraskacasa.org//NONSGML kigkonsult.se iCalcreator 2.30.10//
CALSCALE:GREGORIAN
METHOD:PUBLISH
UID:2aebf99a-81e1-4435-a8fc-5d006ba9ff04
X-WR-CALDESC:If you live in Phelps or Harlan County and have an interest in
  becoming an advocate for abused and neglected children\, this is the time
 !
X-WR-RELCALID:9a0d4d5a0d53e76fcdeb52ffae819940
X-WR-TIMEZONE:America/Chicago
BEGIN:VTIMEZONE
TZID:America/Chicago
BEGIN:STANDARD
TZNAME:CST
DTSTART:20171105T020000
TZOFFSETFROM:-0500
TZOFFSETTO:-0600
RDATE:20181104T020000
RDATE:20191103T020000
END:STANDARD
BEGIN:DAYLIGHT
TZNAME:CDT
DTSTART:20180311T020000
TZOFFSETFROM:-0600
TZOFFSETTO:-0500
RDATE:20190310T020000
END:DAYLIGHT
END:VTIMEZONE
BEGIN:VEVENT
UID:0b92e2cf-3f45-4889-b625-777f25b03a92
DTSTAMP:20260422T033710Z
DESCRIPTION:If you live in Phelps or Harlan County and have an interest in 
 becoming an advocate for abused and neglected children\, this is the time!
DTSTART;TZID=America/Chicago:20180822T173000
DTEND;TZID=America/Chicago:20180822T210000
LOCATION:715 5th Ave. Holdrege
SUMMARY:New Volunteer Training in Holdrege
END:VEVENT
END:VCALENDAR
