BEGIN:VCALENDAR
VERSION:2.0
PRODID:-//www.nebraskacasa.org//NONSGML kigkonsult.se iCalcreator 2.30.10//
CALSCALE:GREGORIAN
METHOD:PUBLISH
UID:4ac6af36-b506-4ec1-ad7d-6619a0b27cee
X-WR-CALDESC:
X-WR-RELCALID:ec4c53f435f0c2abcafbe47ea17cc251
X-WR-TIMEZONE:America/Chicago
BEGIN:VTIMEZONE
TZID:America/Chicago
BEGIN:STANDARD
TZNAME:CST
DTSTART:20171105T020000
TZOFFSETFROM:-0500
TZOFFSETTO:-0600
RDATE:20181104T020000
RDATE:20191103T020000
END:STANDARD
BEGIN:DAYLIGHT
TZNAME:CDT
DTSTART:20180311T020000
TZOFFSETFROM:-0600
TZOFFSETTO:-0500
RDATE:20190310T020000
END:DAYLIGHT
END:VTIMEZONE
BEGIN:VEVENT
UID:c0cc2e9a-5910-49e0-9936-a392e3ef0fe4
DTSTAMP:20260422T020628Z
DESCRIPTION:
DTSTART;TZID=America/Chicago:20180906T170000
DTEND;TZID=America/Chicago:20180906T190000
LOCATION:pin PlainsWest CASA 1108 10th Ave\, 69162
SUMMARY:New Volunteer Training
END:VEVENT
END:VCALENDAR
